BEGIN:VCALENDAR
VERSION:2.0
PRODID:-//AudioTheme 1.8.4
BEGIN:VEVENT
UID:http://bill-gilliam.com/?post_type=audiotheme_gig&#038;p=470
URL:https://bill-gilliam.com/shows/tranzax-gilliam-milmine-pottie/
DTSTART;TZID=GMT:20170318T233000
SUMMARY:Gilliam, Milmine & Pottie at Tranzac
DESCRIPTION:A performance with soprano player Kayla Milmine & percussionist Ambrose Pottie.   Our trio will be playing new tunes blending modal-chromatic jazz and free improvisation.  $10 / PWYC  7:30pm to 9:30pm  Tranzac Club\, 292 Brunswick Ave\, Toronto\, ON  www.tranzac.org
LOCATION:Tranzac Club\, 292 Brunswick Ave\, Toronto\, ON\, Canada\, M5S 1Y2
END:VEVENT
END:VCALENDAR