BEGIN:VCALENDAR
VERSION:2.0
PRODID:-//AudioTheme 1.8.4
BEGIN:VEVENT
UID:http://bill-gilliam.com/?post_type=audiotheme_gig&#038;p=472
URL:https://bill-gilliam.com/shows/toronto-improvisors-orchestra-celebrates-christine-duncan-and-the-element-choir/
DTSTART;TZID=GMT:20170320T000000
SUMMARY:Toronto Improvisor's Orchestra  celebrates Christine Duncan and the Element Choir
DESCRIPTION:I will be playing in this exciting event where Christine will conduct large numbers of improvised voices\, sound artists and musicians to create powerful & spontaneous music.  $10  8:00pm  Array Space\, 155 Walnut St\, Toronto  https://www.facebook.com/events/444944542563203/
LOCATION:Array Space\, 161 Walnut Ave\, Toronto\, ON\, Canada\, M6J 3W3
END:VEVENT
END:VCALENDAR