BEGIN:VCALENDAR
VERSION:2.0
PRODID:-//AudioTheme 1.8.4
BEGIN:VEVENT
UID:http://bill-gilliam.com/?post_type=audiotheme_gig&#038;p=473
URL:https://bill-gilliam.com/shows/the-bill-gilliam-art-ensemble-presents-what-is-freedom/
DTSTART;TZID=GMT:20170423T000000
SUMMARY:The Bill Gilliam Art Ensemble presents  “What Is Freedom?
DESCRIPTION:The Bill Gilliam Art Ensemble presents their performance art show “What Is Freedom?” (Resistance Is Fertile!). A new show of spoken word with composed and improvised new music inspired by texts and poems about freedom and resistance across time and cultures. This show features: Bill Gilliam (piano)\, Glenda Romano (actor)\, Cheryl O (cello)\, Glen Hall (sax\, woodwinds\, electro-acoustic sounds)\, Rick Sacks (percussion)\, David Story (piano & drums).   $20 / $10 students  8:00pm  Gallery 345\, 345 Sorauren Avenue\, Toronto ON M6R 2G5   http://www.gallery345.com/performances.php#apr22
LOCATION:Gallery 345\, 345 Souraren Ave.  Unit #3\, Toronto\, ON\, Canada\, M6R 2G5
END:VEVENT
END:VCALENDAR