BEGIN:VCALENDAR
VERSION:2.0
PRODID:-//AudioTheme 1.8.4
BEGIN:VEVENT
UID:http://bill-gilliam.com/?post_type=audiotheme_gig&#038;p=888
URL:https://bill-gilliam.com/shows/audiopollination-3/
DTSTART;TZID=GMT:20241109T010000
SUMMARY:Audiopollination
DESCRIPTION:Audiopollination\, November 8th 2024 (12th year)     Array Music - 155 Walnut Ave  10$ cash or card (or PWYC)    Music starts at 8pm (usually finished around 10pm)  Livestream  YouTube: TBA  twitch: TBA    I'm playing Set 3 in an evening with a great lineup of talented improvisors.    Set 1  Mira Riselli (upright bass)/ eric cinnsealach (clarinets & white noise machine)/ marilyn yogarajah (trumpet & piano)    Set 2  Martin van de Ven/ Arie vvdv/ Grace Scheele (electric harp/FX/looper)    Set 3  Ryan Kinney electric guitar/ Bill Gilliam (piano) Sara constant (flutes/electronics)    Set 4  xodkaar\, Mkl32\, %%30%30
LOCATION:Array 155 Walnut Ave
END:VEVENT
END:VCALENDAR