BEGIN:VCALENDAR
VERSION:2.0
PRODID:-//AudioTheme 1.8.4
BEGIN:VEVENT
UID:http://bill-gilliam.com/?post_type=audiotheme_gig&#038;p=484
URL:https://bill-gilliam.com/shows/2017-10-18/
DTSTART;TZID=GMT:20171019T000000
SUMMARY:"Entangled Pathways"      CD release
DESCRIPTION:The Bill Gilliam\, Kayla Milmine & Ambrose Pottie trio release their new CD "Entangled Pathways" at Array Space\, Wednesday Oct 18th at 8pm.    $10 admission\, $15 with CD    Array Space  155 Walnut Ave. Toronto\, M6J 3W3  https://goo.gl/maps/pDM3MZYUyVn    Bill Gilliam\, piano & prepared piano  Kayla Milmine\, soprano sax  Ambrose Pottie\, percussion    Entangled Pathways is a collection of original music performed by this acoustic trio who met through the Toronto Improvisor's Orchestra (TIO). These pieces are a combination of composed free floating melodies\, jazz idioms and modal-chromatic tonalities as well as freely improvised creations by the ensemble. This music offers reflections on the rapidly changing and entangled terrains we live in and the many imagined pathways we could take.    
LOCATION:Array Space\, 161 Walnut Ave\, Toronto\, ON\, Canada\, M6J 3W3
END:VEVENT
END:VCALENDAR